BEGIN:VCALENDAR
VERSION:2.0
PRODID:-//hacksw/handcal//NONSGML v1.0//EN
BEGIN:VEVENT
SUMMARY:Rando de Lains : 40eme edition
UID:9782c2b0-7079-42a1-9a42-4573070ef920
DTSTART:20260425T220000Z
DTEND:20260426T220000Z
LOCATION:Localisation   
CATEGORIES:Sportif
STATUS:
DESCRIPTION:<p>Randonnee de Lains : toutes les precisions sont sur
 l'affiche jointe.</p>
 
 <p>Covoiturage : </p>
URL;VALUE=URI:https://www.rando-saint-maur.fr/evenements/2026/04/26/rando-de-lains-40eme-edition-2416961
END:VEVENT
END:VCALENDAR
